BEGIN:VCALENDAR
VERSION:2.0
PRODID:-//The European School of Multimodality Imaging &amp; Therapy (ESMIT) - ECPv6.15.11//NONSGML v1.0//EN
CALSCALE:GREGORIAN
METHOD:PUBLISH
X-WR-CALNAME:The European School of Multimodality Imaging &amp; Therapy (ESMIT)
X-ORIGINAL-URL:https://esmit.eanm.org
X-WR-CALDESC:Events for The European School of Multimodality Imaging &amp; Therapy (ESMIT)
REFRESH-INTERVAL;VALUE=DURATION:PT1H
X-Robots-Tag:noindex
X-PUBLISHED-TTL:PT1H
BEGIN:VTIMEZONE
TZID:Europe/Vienna
BEGIN:DAYLIGHT
TZOFFSETFROM:+0100
TZOFFSETTO:+0200
TZNAME:CEST
DTSTART:20230326T010000
END:DAYLIGHT
BEGIN:STANDARD
TZOFFSETFROM:+0200
TZOFFSETTO:+0100
TZNAME:CET
DTSTART:20231029T010000
END:STANDARD
BEGIN:DAYLIGHT
TZOFFSETFROM:+0100
TZOFFSETTO:+0200
TZNAME:CEST
DTSTART:20240331T010000
END:DAYLIGHT
BEGIN:STANDARD
TZOFFSETFROM:+0200
TZOFFSETTO:+0100
TZNAME:CET
DTSTART:20241027T010000
END:STANDARD
BEGIN:DAYLIGHT
TZOFFSETFROM:+0100
TZOFFSETTO:+0200
TZNAME:CEST
DTSTART:20250330T010000
END:DAYLIGHT
BEGIN:STANDARD
TZOFFSETFROM:+0200
TZOFFSETTO:+0100
TZNAME:CET
DTSTART:20251026T010000
END:STANDARD
END:VTIMEZONE
BEGIN:VEVENT
DTSTART;TZID=Europe/Vienna:20241108T133000
DTEND;TZID=Europe/Vienna:20241108T143000
DTSTAMP:20260422T034259
CREATED:20240213T192553Z
LAST-MODIFIED:20240723T085928Z
UID:1296-1731072600-1731076200@esmit.eanm.org
SUMMARY:Artificial Intelligence in Dosimetry
DESCRIPTION:The rapid development in machine learning has generated new artificial intelligence (AI) based methods for improving dosimetry within nuclear medicine. This webinar will present the current status of AI within the dosimetry workflow for targeted radionuclide therapy. First\, AI methods for reducing SPECT acquisition times\, noise reduction and scatter correction will be covered. Thereafter\, AI methods for organ segmentation and voxel-based dosimetry\, together with AI methods for pre-therapeutically dosimetry estimate will be highlighted. \n\n\n\nLearning Objectives: The aim of this webinar is to understand the basics of AI methodologies used for dosimetry and receive knowledge about the current status of AI applications within dosimetry for targeted radionuclide therapies. \n\n\n\n\n\n\n\nSave yourself a FREE seatEnter the eLearning store to register for the course. Having trouble? See the short tutorial here. Register now FOR FREE!\n\n\n\n\n\n\n\nFaculty\n\n\n\n\n\nPeter BernhardtModeratorGöteborg\, Sweden \n\n\n\n\n\n\n\n\n\n\n\nYuni Dewaraja  SpeakerMichigan\, USA \n\n\n\n\n\nJohannes Tran-GiaSpeakerWürzburg\, Germany \n\n\n\n\n\n\n\n\n\nRegistration\n\n\n\n\nmyEANM accountLog into your myEANM account or create a new one. \n\n\n\nESMIT eLearningAccess the eLearning platform. You can also navigate to it directly from your myEANM database: ESMIT→ESMIT Registrations \n\n\n\neLearning Course StoreEnter the course store\, make your selection and check out. \n\n\n\nEnroll yourselfFind your desired webinar under ‘Single Webinar Tickets’ or enroll for all 2024 webinars with the eLearning Access Plan – FREE OF CHARGE \n\n\n\nEnjoy!The link for the Zoom Webinar will be made available to you on the eLearning platform in the course contents \n\n\n\n\n\n\n\n\nEvent Overview
URL:https://esmit.eanm.org/event/artificial-intelligence-in-dosimetry/
CATEGORIES:AI & Quantification,Live Webinars
END:VEVENT
BEGIN:VEVENT
DTSTART;TZID=Europe/Vienna:20241114T080000
DTEND;TZID=Europe/Vienna:20241115T170000
DTSTAMP:20260422T034259
CREATED:20240213T181944Z
LAST-MODIFIED:20241031T131739Z
UID:1243-1731571200-1731690000@esmit.eanm.org
SUMMARY:Focus on Molecular-guided Surgery
DESCRIPTION:An application has been submitted to the UEMS EACCME for CME accreditation. \n\n\n\nThe course has a hybrid format with on-site lectures and hands-on practical and technic sessions\, It will cover the basic and some advanced and future aspects of Radioguided surgery with a focus on the technologist’s work and support the multidisciplinary team in charge of Radioguided procedures.   \n\n\n\n\n\n\n\nSave yourself a seatRegistration closed. For last-minute sign up please contact esmit@eanm.org \n\n\n\n\n\n\n\n\nTarget Audience\n\n\n\n\n\nThis course aims to spread information and practice to technologist\, nurses\, medical staff (nuclear medicine\, surgeons\, radiologist)  in order to provide an interactive setting to share ideas and refine current and future approaches in the field of Radioguided Surgery\n\n\n\n\n\n\n\nLearning Objectives\n\n\n\n\n\nTo Define the radioguided surgery principles\, applications\, methodology. \n\n\n\nOverview the current state of the art of the radioguided surgery. \n\n\n\nList the clinical indications of introducing radioguided surgery to the patients. \n\n\n\nExplain the paper of a multidisciplinary team in the context of radioguided surgery. \n\n\n\nProtocols and methodologies of conventional NM exams used in radioguided surgery \n\n\n\nConventional nuclear medicine in the context of radioguided surgery: best practice\, radiation protection and safety\, organisation and patient management. \n\n\n\nTo provide the potential benefits of new technologies like IA and future perspectives.\n\n\n\n\n\n\n\n\n\n\nProgrammeClick to see the Preliminary Programme. Please note\, that it may be subject to change at any time. View the Programme\n\n\n\n\n\n\n\nFaculty\n\n\n\n\n\nSergi Vidal-SicartSpeaker \n\n\n\n\n\nChiara Maria GranaSpeaker \n\n\n\n\n\nRenato Valdés OlmosSpeaker \n\n\n\n\n\nJohn OrozcoSpeaker \n\n\n\n\n\n\n\n\n\nRegistration Details\n\n\n\nRegistration FeeMode of PaymentCancellation Policy\n\nCourse Fee               € 863.64 \n\n\n\nRegistration Fee includes: \n\n\n\n\nElectronic Course Book\, including all Slides\n\n\n\nCoffee & Lunch Breaks on each Course Day\n\n\n\n\nRegistration Fee does NOT include: \n\n\n\n\nTravel to the Venue\n\n\n\nAccommodation\n\n\n\n\n\n\nRegistration fees need to be paid 1 week prior to the event. In case the payment is not received by this deadline\, the registration needs to be cancelled. Payment can be settled by Credit Card Cheques will not be accepted \n\n\n\n\n\nCancellations must be notified in writing to the EANM Office. Telephone cancellations cannot be accepted. Substitutions will be accepted if the name and e-mail address of the substitute are sent to the EANM Office 4 weeks prior to the event. In the case of cancellation 4 weeks before the course\, we will refund you the fee less a € 100\,- administration charge. After this date\, we cannot grant any refund for cancellations. Any refund will take place after the respective course. EANM will not be held liable for cancellation fees of hotels\, airlines or other means of transportation. \n\n\n\n\n\n\n\n\n\nEvent Overview
URL:https://esmit.eanm.org/event/focus-on-molecular-guided-surgery/
LOCATION:Hospital Clínico de Barcelona\, Carrer de Villarroel\, 170\, L'Eixample\, Barcelona\, 08036\, Spain
CATEGORIES:Clinical Nuclear Medicine,Onsite Course
END:VEVENT
BEGIN:VEVENT
DTSTART;TZID=Europe/Vienna:20241122T133000
DTEND;TZID=Europe/Vienna:20241122T143000
DTSTAMP:20260422T034259
CREATED:20240213T192901Z
LAST-MODIFIED:20241004T123239Z
UID:1298-1732282200-1732285800@esmit.eanm.org
SUMMARY:Challenges of Zr89 Imaging
DESCRIPTION:While PET imaging with radionuclides such as F18 and Ga68 have proven to provide high quality diagnostic imaging\, imaging with other radionuclides can be more challenging. Zr-89 is one such radionuclide. Although Zr-89 has advantageous labelling properties for cell imaging and the imaging of monoclonal antibodies\, the radionuclide is non-ideal imaging qualities mostly due to its low dosage\, and also brings with it radiation safety challenges. This webinar will present both sides of Zr-89 imaging\, the clinically relevant opportunities for the radionuclide\, and the quantification challenges\, handling and the safety aspects of Zr-89. \n\n\n\nLearning Objectives: The aim of this webinar is to show the potential and the challenges of Zr-89 imaging. \n\n\n\n\n\n\n\nSave yourself a FREE seatEnter the eLearning store to register for the course. Having trouble? See the short tutorial here. Register now FOR FREE!\n\n\n\n\n\n\n\nFaculty\n\n\n\n\n\nFloris H.P. van VeldenModeratorLeiden\, Netherlands \n\n\n\n\n\nErik AarntzenSpeakerNijmegen\, Netherlands \n\n\n\n\n\nMarc C. HuismanSpeakerAmsterdam\, Netherlands \n\n\n\n\n\n\n\n\n\nRegistration\n\n\n\n\nmyEANM accountLog into your myEANM account or create a new one. \n\n\n\nESMIT eLearningAccess the eLearning platform. You can also navigate to it directly from your myEANM database: ESMIT→ESMIT Registrations \n\n\n\neLearning Course StoreEnter the course store\, make your selection and check out. \n\n\n\nEnroll yourselfFind your desired webinar under ‘Single Webinar Tickets’ or enroll for all 2024 webinars with the eLearning Access Plan – FREE OF CHARGE \n\n\n\nEnjoy!The link for the Zoom Webinar will be made available to you on the eLearning platform in the course contents \n\n\n\n\n\n\n\n\nEvent Overview
URL:https://esmit.eanm.org/event/challenges-of-zr89-imaging/
CATEGORIES:Live Webinars,Theranostics
END:VEVENT
END:VCALENDAR