BEGIN:VCALENDAR
VERSION:2.0
PRODID:-//The European School of Multimodality Imaging &amp; Therapy (ESMIT) - ECPv6.15.11//NONSGML v1.0//EN
CALSCALE:GREGORIAN
METHOD:PUBLISH
X-ORIGINAL-URL:https://esmit.eanm.org
X-WR-CALDESC:Events for The European School of Multimodality Imaging &amp; Therapy (ESMIT)
REFRESH-INTERVAL;VALUE=DURATION:PT1H
X-Robots-Tag:noindex
X-PUBLISHED-TTL:PT1H
BEGIN:VTIMEZONE
TZID:Europe/Vienna
BEGIN:DAYLIGHT
TZOFFSETFROM:+0100
TZOFFSETTO:+0200
TZNAME:CEST
DTSTART:20230326T010000
END:DAYLIGHT
BEGIN:STANDARD
TZOFFSETFROM:+0200
TZOFFSETTO:+0100
TZNAME:CET
DTSTART:20231029T010000
END:STANDARD
BEGIN:DAYLIGHT
TZOFFSETFROM:+0100
TZOFFSETTO:+0200
TZNAME:CEST
DTSTART:20240331T010000
END:DAYLIGHT
BEGIN:STANDARD
TZOFFSETFROM:+0200
TZOFFSETTO:+0100
TZNAME:CET
DTSTART:20241027T010000
END:STANDARD
BEGIN:DAYLIGHT
TZOFFSETFROM:+0100
TZOFFSETTO:+0200
TZNAME:CEST
DTSTART:20250330T010000
END:DAYLIGHT
BEGIN:STANDARD
TZOFFSETFROM:+0200
TZOFFSETTO:+0100
TZNAME:CET
DTSTART:20251026T010000
END:STANDARD
END:VTIMEZONE
BEGIN:VEVENT
DTSTART;TZID=Europe/Vienna:20240412T133000
DTEND;TZID=Europe/Vienna:20240412T143000
DTSTAMP:20260422T131626
CREATED:20240213T185351Z
LAST-MODIFIED:20240402T110609Z
UID:1255-1712928600-1712932200@esmit.eanm.org
SUMMARY:Basic GMP and the Challenges of Annex 1: Manufacture of Sterile Products
DESCRIPTION:This webinar will give an introduction into the GMP rules\, basics and application to radiopharmaceutical productions. \n\n\n\nLearning Objectives: The aim of the webinar is to deliver the basic of GMP applied to radiopharmaceutical production. \n\n\n\n\n\n\n\nSave yourself a FREE seatEnter the eLearning store to register for the course. Having trouble? See the short tutorial here. Register now FOR FREE!\n\n\n\n\n\n\n\nFaculty\n\n\n\n\n\nHendrikus BoersmaSpeakerHospital Pharmacist/ Clinical Pharmacologist\, QP\, Section Co-ordinator Radiochemistry and Radiopharmacy\, Assistant Professor\, Hospital Pharmacist for Radiopharmacy and Clinical Trials support\, Department of Clinical Pharmacy and Pharmacology UMCG AP50\, Department of Nuclear Medicine and Molecular Imaging\, University Medical Center Groningen\, Netherlands \n\n\n\n\n\nNeil HartmanSpeakerHead of Nuclear Medicine\, Swansea Bay University Health Board\, Singleton Hospital\, Swansea\, United Kingdom \n\n\n\n\n\n\n\n\n\nRegistration\n\n\n\n\nmyEANM accountLog into your myEANM account or create a new one. \n\n\n\nESMIT eLearningAccess the eLearning platform. You can also navigate to it directly from your myEANM database: ESMIT→ESMIT Registrations \n\n\n\neLearning Course StoreEnter the course store\, make your selection and check out. \n\n\n\nEnroll yourselfFind your desired webinar under ‘Single Webinar Tickets’ or enroll for all 2024 webinars with the eLearning Access Plan – FREE OF CHARGE \n\n\n\nEnjoy!The link for the Zoom Webinar will be made available to you on the eLearning platform in the course contents \n\n\n\n\n\n\n\n\nEvent Overview
URL:https://esmit.eanm.org/event/basic-gmp-and-the-challenges-of-annex-1-manufacture-of-sterile-products/
CATEGORIES:Live Webinars,Radiopharmaceuticals
END:VEVENT
BEGIN:VEVENT
DTSTART;TZID=Europe/Vienna:20240419T133000
DTEND;TZID=Europe/Vienna:20240419T143000
DTSTAMP:20260422T131626
CREATED:20240213T185845Z
LAST-MODIFIED:20240409T141814Z
UID:1280-1713533400-1713537000@esmit.eanm.org
SUMMARY:Exploiting Radiobiological Effects of Targeted Radionuclide Therapy
DESCRIPTION:Radiobiology is a branch of biology devoted to the study of biological effects of ionizing radiation on living organisms: we can speak about radiobiology in different clinical and research settings of Nuclear Medicine: dosimetry\, preclinical and translational science\, oncology\, theranostics. With this webinar we will try to better understand the importance of this topic regarding targeted radionuclide therapy\, in particular we will start from the questions from a clinician’s side with a great experience in PRRT and we will move towards the possible answers from experts in dosimetry and radiobiology.  \n\n\n\nRadiobiology is fundamental to better understand some mechanisms of response to therapies and also in order to reach the most important target: we always need more efficient and safer radiopharmaceuticals for personalized cancer diagnosis and treatment. \n\n\n\nLearning Objectives: The aim of this course is to understand the importance of radiobiology in radionuclide therapy. \n\n\n\n\n\n\n\nSave yourself a FREE seatEnter the eLearning store to register for the course. Having trouble? See the short tutorial here. Register now FOR FREE!\n\n\n\n\n\n\n\nFaculty\n\n\n\n\n\nChiara Maria GranaModeratorMilan\, Italy \n\n\n\n\n\nLisa BodeiSpeakerNew York\, USA \n\n\n\n\n\n\nCaroline StokkeSpeakerOslo\, Norway \n\n\n\nJean-Pierre PougetSpeakerMontpellier\, France \n\n\n\n\n\n\n\n\nRegistration\n\n\n\n\nmyEANM accountLog into your myEANM account or create a new one. \n\n\n\nESMIT eLearningAccess the eLearning platform. You can also navigate to it directly from your myEANM database: ESMIT→ESMIT Registrations \n\n\n\neLearning Course StoreEnter the course store\, make your selection and check out. \n\n\n\nEnroll yourselfFind your desired webinar under ‘Single Webinar Tickets’ or enroll for all 2024 webinars with the eLearning Access Plan – FREE OF CHARGE \n\n\n\nEnjoy!The link for the Zoom Webinar will be made available to you on the eLearning platform in the course contents \n\n\n\n\n\n\n\n\nEvent Overview
URL:https://esmit.eanm.org/event/exploiting-radiobiological-effects-of-targeted-radionuclide-therapy/
CATEGORIES:Live Webinars,Theranostics
END:VEVENT
BEGIN:VEVENT
DTSTART;TZID=Europe/Vienna:20240425T090000
DTEND;TZID=Europe/Vienna:20240426T130000
DTSTAMP:20260422T131626
CREATED:20240213T173431Z
LAST-MODIFIED:20240422T130323Z
UID:1206-1714035600-1714136400@esmit.eanm.org
SUMMARY:Early Bone SPECT in Clinical Practice
DESCRIPTION:UEMS EACCME has granted the accreditation of 8.5 CME credits for this event. \n\n\n\nEarly phase SPECT has the potential to expand the diagnosis spectrum of disphosphonate scintigraphy in non-oncologic situations. Incorporated in a clinical routine\, it has the ability to focus the nuclear medicine physician attention on the most inflammatory lesions whichever they might be osseous\, para-osseous ou extra-osseous. Our 1.5 day course is intended to be a practical workshop for nuclear medicine physician interested in nuclear osteo-articular imaging\, whether they have an experience in early phase SPECT or not. It will cover the physiology of early phase physiology\, technical aspects\, interpretation guide\, most common type of lesions encountered\, with an emphasis on anatomy and CT semiology and an outlook on targeted treatment such as synoviorthesis. \n\n\n\n\n\n\n\n\n\n\nLearning Objectives\n\n\n\n\n\n\n\nTarget Audience\n\n\n\n\n\n\n\n\n\nHow and when to perform an early phase SPECT\n\n\n\nHow to integrate early phase\, late phase\, CT and clinical findings to elaborate a diagnosis\n\n\n\nHow to articulate our diagnosis with therapeutic tools such as synoviorthesis\, corticosteroid infiltrations and other methods\n\n\n\n\n\n\n\nNuclear medicine physician\, junior or senior\, with an interest in hybrid imaging and osteoarticular field. No experience in early phase SPECT needed.\n\n\n\n\n\n\n\n\n\n\nProgrammeClick to see the Preliminary Programme. Please note\, that it may be subject to change at any time. Programme\n\n\n\n\n\n\n\nFaculty\n\n\n\n\n\nKnut LiepeSpeakerKlinikum Frankfurt (Oder)\, Germany \n\n\n\n\n\nDavid MorlandSpeakerUniversité de Reims Champagne-Ardenne\, France \n\n\n\n\n\nNicolas IcardSpeakerCentre Hospitalier de Saint Brieuc Yves Le Foll\, France \n\n\n\n\n\nJules ZhangSpeakerVivalia\, Hôpital d’Arlon\, Belgium \n\n\n\n\n\n\n\n\n\nRegistration Details\n\n\n\nRegistration FeeMode of PaymentCancellation Policy\n\nCourse Fee               € 950.- \n\n\n\nRegistration Fee includes: \n\n\n\n\nElectronic Course Book\, including all Slides\n\n\n\nCoffee Breaks on each Course Day\n\n\n\nLunch on Day 1\n\n\n\n\nRegistration Fee does NOT include: \n\n\n\n\nTravel to the Venue\n\n\n\nAccommodation\n\n\n\n\n\n\nRegistration fees need to be paid 1 week prior to the event. In case the payment is not received by this deadline\, the registration needs to be cancelled. Payment can be settled by Credit Card Cheques will not be accepted \n\n\n\n\n\nCancellations must be notified in writing to the EANM Office. Telephone cancellations cannot be accepted. Substitutions will be accepted if the name and e-mail address of the substitute are sent to the EANM Office 4 weeks prior to the event. In the case of cancellation 4 weeks before the course\, we will refund you the fee less a € 100\,- administration charge. After this date\, we cannot grant any refund for cancellations. Any refund will take place after the respective course. EANM will not be held liable for cancellation fees of hotels\, airlines or other means of transportation. \n\n\n\n\n\n\n\n\n\nEvent Overview
URL:https://esmit.eanm.org/event/early-bone-spect-in-clinical-practice/
LOCATION:Future Health Lab\, Alfred-Adler-Straße 1\, Vienna\, 1100\, Austria
CATEGORIES:Clinical Nuclear Medicine,Onsite Course
END:VEVENT
END:VCALENDAR