BEGIN:VCALENDAR
VERSION:2.0
PRODID:-//The European School of Multimodality Imaging &amp; Therapy (ESMIT) - ECPv6.15.11//NONSGML v1.0//EN
CALSCALE:GREGORIAN
METHOD:PUBLISH
X-ORIGINAL-URL:https://esmit.eanm.org
X-WR-CALDESC:Events for The European School of Multimodality Imaging &amp; Therapy (ESMIT)
REFRESH-INTERVAL;VALUE=DURATION:PT1H
X-Robots-Tag:noindex
X-PUBLISHED-TTL:PT1H
BEGIN:VTIMEZONE
TZID:Europe/Vienna
BEGIN:DAYLIGHT
TZOFFSETFROM:+0100
TZOFFSETTO:+0200
TZNAME:CEST
DTSTART:20240331T010000
END:DAYLIGHT
BEGIN:STANDARD
TZOFFSETFROM:+0200
TZOFFSETTO:+0100
TZNAME:CET
DTSTART:20241027T010000
END:STANDARD
BEGIN:DAYLIGHT
TZOFFSETFROM:+0100
TZOFFSETTO:+0200
TZNAME:CEST
DTSTART:20250330T010000
END:DAYLIGHT
BEGIN:STANDARD
TZOFFSETFROM:+0200
TZOFFSETTO:+0100
TZNAME:CET
DTSTART:20251026T010000
END:STANDARD
BEGIN:DAYLIGHT
TZOFFSETFROM:+0100
TZOFFSETTO:+0200
TZNAME:CEST
DTSTART:20260329T010000
END:DAYLIGHT
BEGIN:STANDARD
TZOFFSETFROM:+0200
TZOFFSETTO:+0100
TZNAME:CET
DTSTART:20261025T010000
END:STANDARD
END:VTIMEZONE
BEGIN:VEVENT
DTSTART;TZID=Europe/Vienna:20251201T100000
DTEND;TZID=Europe/Vienna:20251201T110000
DTSTAMP:20260421T113936
CREATED:20250513T093530Z
LAST-MODIFIED:20251118T083337Z
UID:2534-1764583200-1764586800@esmit.eanm.org
SUMMARY:Japanese vs. European View on Targeted Radionuclide Therapy
DESCRIPTION:This event is a collaboration between ESMIT and JSNM. The aim of the webinar is to compare the approach to targeted radionuclide therapy (TRT) in Japan and in Europe. The webinar will focus on the differences in the TRT environment in Japan vs. Europe\, including regulatory science and radiation protection regulation\, and more. \n\n\n\n \n\n\n\n \n\n\n\n\n\n\n\nRegister nowEnrol in the live webinar now for free! Register now\n\n\n\n\n\n\n\n \n\n\n\n \n\n\n\nTarget Audience\n\n\n\n \n\n\n\nNuclear Medicine Physicians \n\n\n\n \n\n\n\nFaculty\n\n\n\n\nTatsuya HigashiSpeaker \n\n\n\nWolfgang FendlerSpeaker \n\n\n\nConrad-Amadeus VoltinModerator \n\n\n\n\n\n\n\n\nEvent Overview
URL:https://esmit.eanm.org/event/japanese-vs-european-view-on-targeted-radionuclide-therapy/
CATEGORIES:Clinical Nuclear Medicine,Live Webinars
ORGANIZER;CN="ESMIT":MAILTO:esmit@eanm.org
END:VEVENT
END:VCALENDAR