BEGIN:VCALENDAR
VERSION:2.0
PRODID:-//The European School of Multimodality Imaging &amp; Therapy (ESMIT) - ECPv6.15.11//NONSGML v1.0//EN
CALSCALE:GREGORIAN
METHOD:PUBLISH
X-WR-CALNAME:The European School of Multimodality Imaging &amp; Therapy (ESMIT)
X-ORIGINAL-URL:https://esmit.eanm.org
X-WR-CALDESC:Events for The European School of Multimodality Imaging &amp; Therapy (ESMIT)
REFRESH-INTERVAL;VALUE=DURATION:PT1H
X-Robots-Tag:noindex
X-PUBLISHED-TTL:PT1H
BEGIN:VTIMEZONE
TZID:Europe/Vienna
BEGIN:DAYLIGHT
TZOFFSETFROM:+0100
TZOFFSETTO:+0200
TZNAME:CEST
DTSTART:20240331T010000
END:DAYLIGHT
BEGIN:STANDARD
TZOFFSETFROM:+0200
TZOFFSETTO:+0100
TZNAME:CET
DTSTART:20241027T010000
END:STANDARD
BEGIN:DAYLIGHT
TZOFFSETFROM:+0100
TZOFFSETTO:+0200
TZNAME:CEST
DTSTART:20250330T010000
END:DAYLIGHT
BEGIN:STANDARD
TZOFFSETFROM:+0200
TZOFFSETTO:+0100
TZNAME:CET
DTSTART:20251026T010000
END:STANDARD
BEGIN:DAYLIGHT
TZOFFSETFROM:+0100
TZOFFSETTO:+0200
TZNAME:CEST
DTSTART:20260329T010000
END:DAYLIGHT
BEGIN:STANDARD
TZOFFSETFROM:+0200
TZOFFSETTO:+0100
TZNAME:CET
DTSTART:20261025T010000
END:STANDARD
END:VTIMEZONE
BEGIN:VEVENT
DTSTART;TZID=Europe/Vienna:20251107T133000
DTEND;TZID=Europe/Vienna:20251107T143000
DTSTAMP:20260421T130053
CREATED:20241017T081503Z
LAST-MODIFIED:20251104T110112Z
UID:1940-1762522200-1762525800@esmit.eanm.org
SUMMARY:Nuclear Medicine-related Highlights from ESMO 2025
DESCRIPTION:This ESMO 2025 webinar will cover a range of topics\, including the latest advancements treatment options\, imaging modalities and performant tracers related to solid and liquid tumors. The focus of this Live event will be the recent advances in solid & liquid tumor treatment\, clinical trials and emerging therapies\, biomarkers in solid tumors and multidisciplinary approaches. The importance of collaboration among medical oncologists\, radiologists\, nuclear medicine physicians\, pathologists and surgeons will be underlined\, based on clinical examples. Challenges and opportunities in immunotherapy for solid tumors will also be addressed\, with special attention for personalized treatment plans in specific cancers\, like lung cancer\, breast cancer\, colorectal and prostate cancer. \n\n\n\nPlease note that the webinar will be recorded\, and the recording will be available a few days after the session is over. You can find the recording on the ESMIT E-learning platform\, under the webinar title. A handout of the presentation materials will also be available on the platform. \n\n\n\n \n\n\n\n \n\n\n\n \n\n\n\n \n\n\n\n\n\n\n\nRegister nowEnrol in the live webinar now for free! Register now\n\n\n\n\n\n\n\n \n\n\n\n \n\n\n\n \n\n\n\nLearning Objectives\n\n\n\n \n\n\n\n\nAttendees will get insight into recent advances in solid/ liquid tumor treatment\n\n\n\nAttendees will be familiarized with the latest developments when diagnosing\, staging and treating different types of solid and liquid tumors.\n\n\n\n\n \n\n\n\n \n\n\n\nTarget Audience\n\n\n\n \n\n\n\n\nFellows and Medical Specialists in Nuclear Medicine\, Radiology\, Medical Oncology\, Urology\, Surgery\, Pathology and Radiation Oncology\n\n\n\n\n \n\n\n\n \n\n\n\n \n\n\n\nFaculty\n\n\n\n \n\n\n\n\n\nDavid KerstingModerator \n\n\n\n\n\nKarolien GoffinSpeaker \n\n\n\n\n\nMatthias EiberSpeaker \n\n\n\n\n\n\n\n\n\n \n\n\n\nEvent Overview
URL:https://esmit.eanm.org/event/nuclear-medicine-related-highlights-from-esmo-2025/
CATEGORIES:Clinical Nuclear Medicine,Live Webinars
END:VEVENT
END:VCALENDAR