BEGIN:VCALENDAR
VERSION:2.0
PRODID:-//The European School of Multimodality Imaging &amp; Therapy (ESMIT) - ECPv6.15.11//NONSGML v1.0//EN
CALSCALE:GREGORIAN
METHOD:PUBLISH
X-ORIGINAL-URL:https://esmit.eanm.org
X-WR-CALDESC:Events for The European School of Multimodality Imaging &amp; Therapy (ESMIT)
REFRESH-INTERVAL;VALUE=DURATION:PT1H
X-Robots-Tag:noindex
X-PUBLISHED-TTL:PT1H
BEGIN:VTIMEZONE
TZID:Europe/Vienna
BEGIN:DAYLIGHT
TZOFFSETFROM:+0100
TZOFFSETTO:+0200
TZNAME:CEST
DTSTART:20240331T010000
END:DAYLIGHT
BEGIN:STANDARD
TZOFFSETFROM:+0200
TZOFFSETTO:+0100
TZNAME:CET
DTSTART:20241027T010000
END:STANDARD
BEGIN:DAYLIGHT
TZOFFSETFROM:+0100
TZOFFSETTO:+0200
TZNAME:CEST
DTSTART:20250330T010000
END:DAYLIGHT
BEGIN:STANDARD
TZOFFSETFROM:+0200
TZOFFSETTO:+0100
TZNAME:CET
DTSTART:20251026T010000
END:STANDARD
BEGIN:DAYLIGHT
TZOFFSETFROM:+0100
TZOFFSETTO:+0200
TZNAME:CEST
DTSTART:20260329T010000
END:DAYLIGHT
BEGIN:STANDARD
TZOFFSETFROM:+0200
TZOFFSETTO:+0100
TZNAME:CET
DTSTART:20261025T010000
END:STANDARD
END:VTIMEZONE
BEGIN:VEVENT
DTSTART;TZID=Europe/Vienna:20250425T133000
DTEND;TZID=Europe/Vienna:20250425T143000
DTSTAMP:20260421T220506
CREATED:20241017T081307Z
LAST-MODIFIED:20250214T105155Z
UID:1936-1745587800-1745591400@esmit.eanm.org
SUMMARY:Highlights of Focus Meeting 6: Shaping the Future of Breast Cancer Care with Molecular Imaging (pre-recorded)
DESCRIPTION:more information coming soon \n\n\n\n\n\n\n\nRegister nowEnrol in the live webinar now for free! Register now\n\n\n\n\n\n\n\nFaculty\n\n\n\n\n\nSpeaker \n\n\n\n\n\nSpeaker \n\n\n\n\n\nSpeaker \n\n\n\n\n\n\n\n\n\nEvent Overview
URL:https://esmit.eanm.org/event/highlights-of-focus-meeting-6-shaping-the-future-of-breast-cancer-care-with-molecular-imaging-prerecorded/
CATEGORIES:Clinical Nuclear Medicine,Live Webinars
END:VEVENT
END:VCALENDAR