BEGIN:VCALENDAR
VERSION:2.0
PRODID:-//The European School of Multimodality Imaging &amp; Therapy (ESMIT) - ECPv6.15.11//NONSGML v1.0//EN
CALSCALE:GREGORIAN
METHOD:PUBLISH
X-ORIGINAL-URL:https://esmit.eanm.org
X-WR-CALDESC:Events for The European School of Multimodality Imaging &amp; Therapy (ESMIT)
REFRESH-INTERVAL;VALUE=DURATION:PT1H
X-Robots-Tag:noindex
X-PUBLISHED-TTL:PT1H
BEGIN:VTIMEZONE
TZID:Europe/Vienna
BEGIN:DAYLIGHT
TZOFFSETFROM:+0100
TZOFFSETTO:+0200
TZNAME:CEST
DTSTART:20240331T010000
END:DAYLIGHT
BEGIN:STANDARD
TZOFFSETFROM:+0200
TZOFFSETTO:+0100
TZNAME:CET
DTSTART:20241027T010000
END:STANDARD
BEGIN:DAYLIGHT
TZOFFSETFROM:+0100
TZOFFSETTO:+0200
TZNAME:CEST
DTSTART:20250330T010000
END:DAYLIGHT
BEGIN:STANDARD
TZOFFSETFROM:+0200
TZOFFSETTO:+0100
TZNAME:CET
DTSTART:20251026T010000
END:STANDARD
BEGIN:DAYLIGHT
TZOFFSETFROM:+0100
TZOFFSETTO:+0200
TZNAME:CEST
DTSTART:20260329T010000
END:DAYLIGHT
BEGIN:STANDARD
TZOFFSETFROM:+0200
TZOFFSETTO:+0100
TZNAME:CET
DTSTART:20261025T010000
END:STANDARD
END:VTIMEZONE
BEGIN:VEVENT
DTSTART;TZID=Europe/Vienna:20250307T133000
DTEND;TZID=Europe/Vienna:20250307T143000
DTSTAMP:20260421T232911
CREATED:20241017T080042Z
LAST-MODIFIED:20250224T082009Z
UID:1924-1741354200-1741357800@esmit.eanm.org
SUMMARY:Advantages of Long-Axial Field-of-View PET in Inflammation and Infection Imaging
DESCRIPTION:Long axial field of view (LAFOV) PET/CT is the latest development in PET instrumentation. This webinar will provide an overview of the clinical opportunities and applications of LAFOV PET in inflammation and infection imaging. \n\n\n\n\n\n\n\nRegister nowEnrol in the live webinar now for free! Register now\n\n\n\n\n\n\n\n \n\n\n\n \n\n\n\nLearning Objectives\n\n\n\n \n\n\n\n \n\n\n\n\nAttendees will be able to describe the main advantages of LAFOV PET in patients with inflammatory and infectious disorders.\n\n\n\nAttendees will be able to understand how the increased sensitivity of LAFOV PET/CT allows for faster scanning and/or an important reduction in injected activity\, and how it also enables dynamic whole-body PET imaging\, studying molecular interactions between organ systems and even delayed imaging.\n\n\n\nAttendees will be able to see that ultrafast imaging can facilitate imaging of new patient groups such as critically ill patients\, patients admitted to intensive care with persistent infection or children without sedation.\n\n\n\n\n \n\n\n\n \n\n\n\n \n\n\n\nTarget Audience\n\n\n\n \n\n\n\n \n\n\n\n\nNuclear Medicine Physicians\, Residents\, Technologists\n\n\n\n\n \n\n\n\nFaculty\n\n\n\n\n\nJoyce van SluisSpeaker \n\n\n\n\n\nLars GormsenSpeaker \n\n\n\n\n\nAndor GlaudemansSpeaker \n\n\n\n\n\nOliver GheysensModerator \n\n\n\n\n\n\n\n\n\nEvent Overview
URL:https://esmit.eanm.org/event/advantages-of-long-axial-field-of-view-pet-in-inflammation-and-infection-imaging/
CATEGORIES:Instrumentation, Technology, Science,Live Webinars
END:VEVENT
END:VCALENDAR