BEGIN:VCALENDAR
VERSION:2.0
PRODID:-//The European School of Multimodality Imaging &amp; Therapy (ESMIT) - ECPv6.15.11//NONSGML v1.0//EN
CALSCALE:GREGORIAN
METHOD:PUBLISH
X-WR-CALNAME:The European School of Multimodality Imaging &amp; Therapy (ESMIT)
X-ORIGINAL-URL:https://esmit.eanm.org
X-WR-CALDESC:Events for The European School of Multimodality Imaging &amp; Therapy (ESMIT)
REFRESH-INTERVAL;VALUE=DURATION:PT1H
X-Robots-Tag:noindex
X-PUBLISHED-TTL:PT1H
BEGIN:VTIMEZONE
TZID:Europe/Vienna
BEGIN:DAYLIGHT
TZOFFSETFROM:+0100
TZOFFSETTO:+0200
TZNAME:CEST
DTSTART:20240331T010000
END:DAYLIGHT
BEGIN:STANDARD
TZOFFSETFROM:+0200
TZOFFSETTO:+0100
TZNAME:CET
DTSTART:20241027T010000
END:STANDARD
BEGIN:DAYLIGHT
TZOFFSETFROM:+0100
TZOFFSETTO:+0200
TZNAME:CEST
DTSTART:20250330T010000
END:DAYLIGHT
BEGIN:STANDARD
TZOFFSETFROM:+0200
TZOFFSETTO:+0100
TZNAME:CET
DTSTART:20251026T010000
END:STANDARD
BEGIN:DAYLIGHT
TZOFFSETFROM:+0100
TZOFFSETTO:+0200
TZNAME:CEST
DTSTART:20260329T010000
END:DAYLIGHT
BEGIN:STANDARD
TZOFFSETFROM:+0200
TZOFFSETTO:+0100
TZNAME:CET
DTSTART:20261025T010000
END:STANDARD
END:VTIMEZONE
BEGIN:VEVENT
DTSTART;TZID=Europe/Vienna:20250207T133000
DTEND;TZID=Europe/Vienna:20250207T143000
DTSTAMP:20260422T005322
CREATED:20241017T075631Z
LAST-MODIFIED:20250203T100308Z
UID:1920-1738935000-1738938600@esmit.eanm.org
SUMMARY:Bone Scan Beyond Oncological Disease
DESCRIPTION:The webinar primarily focuses on the clinical value and implementation of early phase SPECT-CT in non-oncological settings\, emphasizing its advantages over traditional planar imaging and late-phase bone scans. It highlights the diagnostic enhancement of early-phase imaging for inflammatory conditions\, pain assessment\, and soft-tissue evaluation. \n\n\n\nNew treatment options for cardiac amyloidosis are increasing interest in early diagnosis of the disease. DPD scan is an excellent and non-invasive diagnostic modality in this diagnosis\, but detailed local\, whole body and SPECT/CT including calculation of different ratios are necessary for an accurate diagnosis. The presentation showed the performance of the examination\, clinical and medical letter examples.  \n\n\n\n\n\n\n\nRegister nowEnrol in the live webinar now for free! Register now\n\n\n\n\n\n\n\nFaculty\n\n\n\n\n\nJules Zhang-YinSpeakerArlon\, Belgium \n\n\n\n\n\nKnut LiepeSpeakerFrankfurt (Oder)\, Germany \n\n\n\n\n\n\n\n\n\nEvent Overview
URL:https://esmit.eanm.org/event/bone-scan-beyond-oncological-disease/
CATEGORIES:Clinical Nuclear Medicine,Live Webinars
END:VEVENT
END:VCALENDAR