BEGIN:VCALENDAR
VERSION:2.0
PRODID:-//The European School of Multimodality Imaging &amp; Therapy (ESMIT) - ECPv6.15.11//NONSGML v1.0//EN
CALSCALE:GREGORIAN
METHOD:PUBLISH
X-WR-CALNAME:The European School of Multimodality Imaging &amp; Therapy (ESMIT)
X-ORIGINAL-URL:https://esmit.eanm.org
X-WR-CALDESC:Events for The European School of Multimodality Imaging &amp; Therapy (ESMIT)
REFRESH-INTERVAL;VALUE=DURATION:PT1H
X-Robots-Tag:noindex
X-PUBLISHED-TTL:PT1H
BEGIN:VTIMEZONE
TZID:Europe/Vienna
BEGIN:DAYLIGHT
TZOFFSETFROM:+0100
TZOFFSETTO:+0200
TZNAME:CEST
DTSTART:20230326T010000
END:DAYLIGHT
BEGIN:STANDARD
TZOFFSETFROM:+0200
TZOFFSETTO:+0100
TZNAME:CET
DTSTART:20231029T010000
END:STANDARD
BEGIN:DAYLIGHT
TZOFFSETFROM:+0100
TZOFFSETTO:+0200
TZNAME:CEST
DTSTART:20240331T010000
END:DAYLIGHT
BEGIN:STANDARD
TZOFFSETFROM:+0200
TZOFFSETTO:+0100
TZNAME:CET
DTSTART:20241027T010000
END:STANDARD
BEGIN:DAYLIGHT
TZOFFSETFROM:+0100
TZOFFSETTO:+0200
TZNAME:CEST
DTSTART:20250330T010000
END:DAYLIGHT
BEGIN:STANDARD
TZOFFSETFROM:+0200
TZOFFSETTO:+0100
TZNAME:CET
DTSTART:20251026T010000
END:STANDARD
END:VTIMEZONE
BEGIN:VEVENT
DTSTART;TZID=Europe/Vienna:20241108T133000
DTEND;TZID=Europe/Vienna:20241108T143000
DTSTAMP:20260422T051102
CREATED:20240213T192553Z
LAST-MODIFIED:20240723T085928Z
UID:1296-1731072600-1731076200@esmit.eanm.org
SUMMARY:Artificial Intelligence in Dosimetry
DESCRIPTION:The rapid development in machine learning has generated new artificial intelligence (AI) based methods for improving dosimetry within nuclear medicine. This webinar will present the current status of AI within the dosimetry workflow for targeted radionuclide therapy. First\, AI methods for reducing SPECT acquisition times\, noise reduction and scatter correction will be covered. Thereafter\, AI methods for organ segmentation and voxel-based dosimetry\, together with AI methods for pre-therapeutically dosimetry estimate will be highlighted. \n\n\n\nLearning Objectives: The aim of this webinar is to understand the basics of AI methodologies used for dosimetry and receive knowledge about the current status of AI applications within dosimetry for targeted radionuclide therapies. \n\n\n\n\n\n\n\nSave yourself a FREE seatEnter the eLearning store to register for the course. Having trouble? See the short tutorial here. Register now FOR FREE!\n\n\n\n\n\n\n\nFaculty\n\n\n\n\n\nPeter BernhardtModeratorGöteborg\, Sweden \n\n\n\n\n\n\n\n\n\n\n\nYuni Dewaraja  SpeakerMichigan\, USA \n\n\n\n\n\nJohannes Tran-GiaSpeakerWürzburg\, Germany \n\n\n\n\n\n\n\n\n\nRegistration\n\n\n\n\nmyEANM accountLog into your myEANM account or create a new one. \n\n\n\nESMIT eLearningAccess the eLearning platform. You can also navigate to it directly from your myEANM database: ESMIT→ESMIT Registrations \n\n\n\neLearning Course StoreEnter the course store\, make your selection and check out. \n\n\n\nEnroll yourselfFind your desired webinar under ‘Single Webinar Tickets’ or enroll for all 2024 webinars with the eLearning Access Plan – FREE OF CHARGE \n\n\n\nEnjoy!The link for the Zoom Webinar will be made available to you on the eLearning platform in the course contents \n\n\n\n\n\n\n\n\nEvent Overview
URL:https://esmit.eanm.org/event/artificial-intelligence-in-dosimetry/
CATEGORIES:AI & Quantification,Live Webinars
END:VEVENT
END:VCALENDAR