BEGIN:VCALENDAR
VERSION:2.0
PRODID:-//The European School of Multimodality Imaging &amp; Therapy (ESMIT) - ECPv6.15.11//NONSGML v1.0//EN
CALSCALE:GREGORIAN
METHOD:PUBLISH
X-ORIGINAL-URL:https://esmit.eanm.org
X-WR-CALDESC:Events for The European School of Multimodality Imaging &amp; Therapy (ESMIT)
REFRESH-INTERVAL;VALUE=DURATION:PT1H
X-Robots-Tag:noindex
X-PUBLISHED-TTL:PT1H
BEGIN:VTIMEZONE
TZID:Europe/Vienna
BEGIN:DAYLIGHT
TZOFFSETFROM:+0100
TZOFFSETTO:+0200
TZNAME:CEST
DTSTART:20230326T010000
END:DAYLIGHT
BEGIN:STANDARD
TZOFFSETFROM:+0200
TZOFFSETTO:+0100
TZNAME:CET
DTSTART:20231029T010000
END:STANDARD
BEGIN:DAYLIGHT
TZOFFSETFROM:+0100
TZOFFSETTO:+0200
TZNAME:CEST
DTSTART:20240331T010000
END:DAYLIGHT
BEGIN:STANDARD
TZOFFSETFROM:+0200
TZOFFSETTO:+0100
TZNAME:CET
DTSTART:20241027T010000
END:STANDARD
BEGIN:DAYLIGHT
TZOFFSETFROM:+0100
TZOFFSETTO:+0200
TZNAME:CEST
DTSTART:20250330T010000
END:DAYLIGHT
BEGIN:STANDARD
TZOFFSETFROM:+0200
TZOFFSETTO:+0100
TZNAME:CET
DTSTART:20251026T010000
END:STANDARD
END:VTIMEZONE
BEGIN:VEVENT
DTSTART;TZID=Europe/Vienna:20240614T133000
DTEND;TZID=Europe/Vienna:20240614T143000
DTSTAMP:20260422T121244
CREATED:20240213T190705Z
LAST-MODIFIED:20240611T073044Z
UID:1285-1718371800-1718375400@esmit.eanm.org
SUMMARY:Cardiovascular PET-CT and PET-MR Imaging
DESCRIPTION:Patients workflows and acquisition protocols in PET/CT and PET/MR with different radiotracers for cardiovascular nuclear medicine imaging. \n\n\n\nLearning Objectives: To learn how to manage radioactive generators 82Sr/82Rb and to acquire cardiovascular imaging in PET/CT or PET/MR and other acquisition protocols. \n\n\n\n\n\n\n\nSave yourself a FREE seatEnter the eLearning store to register for the course. Having trouble? See the short tutorial here. Register now FOR FREE!\n\n\n\n\n\n\n\nFaculty\n\n\n\n\n\nPaolo TurcoModeratorPadua\, Italy \n\n\n\n\n\nStephan NekollaModeratorMunich\, Germany \n\n\n\n\n\n\nSylvia SchachoffSpeakerMunich\, Germany \n\n\n\nIan ArmstrongSpeakerManchester\, UK \n\n\n\n\n\n\n\n\nRegistration\n\n\n\n\nmyEANM accountLog into your myEANM account or create a new one. \n\n\n\nESMIT eLearningAccess the eLearning platform. You can also navigate to it directly from your myEANM database: ESMIT→ESMIT Registrations \n\n\n\neLearning Course StoreEnter the course store\, make your selection and check out. \n\n\n\nEnroll yourselfFind your desired webinar under ‘Single Webinar Tickets’ or enroll for all 2024 webinars with the eLearning Access Plan – FREE OF CHARGE \n\n\n\nEnjoy!The link for the Zoom Webinar will be made available to you on the eLearning platform in the course contents \n\n\n\n\n\n\n\n\nEvent Overview
URL:https://esmit.eanm.org/event/cardiovascular-pet-ct-and-pet-mr-imaging/
CATEGORIES:Clinical Nuclear Medicine,Live Webinars
END:VEVENT
END:VCALENDAR