BEGIN:VCALENDAR
VERSION:2.0
PRODID:-//The European School of Multimodality Imaging &amp; Therapy (ESMIT) - ECPv6.15.11//NONSGML v1.0//EN
CALSCALE:GREGORIAN
METHOD:PUBLISH
X-WR-CALNAME:The European School of Multimodality Imaging &amp; Therapy (ESMIT)
X-ORIGINAL-URL:https://esmit.eanm.org
X-WR-CALDESC:Events for The European School of Multimodality Imaging &amp; Therapy (ESMIT)
REFRESH-INTERVAL;VALUE=DURATION:PT1H
X-Robots-Tag:noindex
X-PUBLISHED-TTL:PT1H
BEGIN:VTIMEZONE
TZID:Europe/Vienna
BEGIN:DAYLIGHT
TZOFFSETFROM:+0100
TZOFFSETTO:+0200
TZNAME:CEST
DTSTART:20240331T010000
END:DAYLIGHT
BEGIN:STANDARD
TZOFFSETFROM:+0200
TZOFFSETTO:+0100
TZNAME:CET
DTSTART:20241027T010000
END:STANDARD
BEGIN:DAYLIGHT
TZOFFSETFROM:+0100
TZOFFSETTO:+0200
TZNAME:CEST
DTSTART:20250330T010000
END:DAYLIGHT
BEGIN:STANDARD
TZOFFSETFROM:+0200
TZOFFSETTO:+0100
TZNAME:CET
DTSTART:20251026T010000
END:STANDARD
BEGIN:DAYLIGHT
TZOFFSETFROM:+0100
TZOFFSETTO:+0200
TZNAME:CEST
DTSTART:20260329T010000
END:DAYLIGHT
BEGIN:STANDARD
TZOFFSETFROM:+0200
TZOFFSETTO:+0100
TZNAME:CET
DTSTART:20261025T010000
END:STANDARD
END:VTIMEZONE
BEGIN:VEVENT
DTSTART;TZID=Europe/Vienna:20251024T133000
DTEND;TZID=Europe/Vienna:20251024T143000
DTSTAMP:20260421T125831
CREATED:20241017T081404Z
LAST-MODIFIED:20251020T094434Z
UID:1938-1761312600-1761316200@esmit.eanm.org
SUMMARY:Explainable AI
DESCRIPTION:The webinar will provide first the fundamentals and basics of explainable artificial intelligence\, including the tools for interpretability of machine and deep learning models\, as well as the explainability principles. Second\, it will provide how these concepts are translated and applied to the development of AI-based models for nuclear medicine applications. \n\n\n\n \n\n\n\n\n\n\n\nRegister nowEnrol in the live webinar now for free! Register now\n\n\n\n\n\n\n\n \n\n\n\n \n\n\n\nLearning Objectives\n\n\n\n \n\n\n\n \n\n\n\n\nAttendees will be able to understand what are the concepts and methods that define explainable AI\, including interpretability tools and algorithms\, as well as explainability concepts to translate these to the end-users.\n\n\n\nAttendees will be able to discover how these concepts can be used to facilitate the development\, adoption and trust for end-users of AI-based models in nuclear medicine applications.\n\n\n\n\n \n\n\n\n \n\n\n\n \n\n\n\n \n\n\n\nTarget Audience\n\n\n\n \n\n\n\n \n\n\n\n\nNuclear medicine physicians\, scientists and technologists interested in the application of artificial intelligence in nuclear medicine imaging applications.\n\n\n\n\n \n\n\n\n \n\n\n\nFaculty\n\n\n\n\n\nNeo Christopher ChungSpeaker \n\n\n\n\n\nClemens SpielvogelSpeaker \n\n\n\n\n\nMathieu HattModerator \n\n\n\n\n\n\n\n\n\nEvent Overview
URL:https://esmit.eanm.org/event/explainable-ai/
CATEGORIES:AI & Quantification,Live Webinars
END:VEVENT
END:VCALENDAR