BEGIN:VCALENDAR
VERSION:2.0
PRODID:-//The European School of Multimodality Imaging &amp; Therapy (ESMIT) - ECPv6.15.11//NONSGML v1.0//EN
CALSCALE:GREGORIAN
METHOD:PUBLISH
X-ORIGINAL-URL:https://esmit.eanm.org
X-WR-CALDESC:Events for The European School of Multimodality Imaging &amp; Therapy (ESMIT)
REFRESH-INTERVAL;VALUE=DURATION:PT1H
X-Robots-Tag:noindex
X-PUBLISHED-TTL:PT1H
BEGIN:VTIMEZONE
TZID:Europe/Vienna
BEGIN:DAYLIGHT
TZOFFSETFROM:+0100
TZOFFSETTO:+0200
TZNAME:CEST
DTSTART:20240331T010000
END:DAYLIGHT
BEGIN:STANDARD
TZOFFSETFROM:+0200
TZOFFSETTO:+0100
TZNAME:CET
DTSTART:20241027T010000
END:STANDARD
BEGIN:DAYLIGHT
TZOFFSETFROM:+0100
TZOFFSETTO:+0200
TZNAME:CEST
DTSTART:20250330T010000
END:DAYLIGHT
BEGIN:STANDARD
TZOFFSETFROM:+0200
TZOFFSETTO:+0100
TZNAME:CET
DTSTART:20251026T010000
END:STANDARD
BEGIN:DAYLIGHT
TZOFFSETFROM:+0100
TZOFFSETTO:+0200
TZNAME:CEST
DTSTART:20260329T010000
END:DAYLIGHT
BEGIN:STANDARD
TZOFFSETFROM:+0200
TZOFFSETTO:+0100
TZNAME:CET
DTSTART:20261025T010000
END:STANDARD
END:VTIMEZONE
BEGIN:VEVENT
DTSTART;TZID=Europe/Vienna:20250613T133000
DTEND;TZID=Europe/Vienna:20250613T143000
DTSTAMP:20260421T235928
CREATED:20241017T081027Z
LAST-MODIFIED:20250605T095541Z
UID:1934-1749821400-1749825000@esmit.eanm.org
SUMMARY:Cardiac Amyloidosis Imaging: Do We Need Quantification?
DESCRIPTION:This webinar provides an overview of the diagnosis of cardiac amyloidosis in nuclear cardiology . Background information on amyloidosis in general is presented and typical disease manifestations are discussed. Furthermore\, the significance of cardiac amyloidosis will be discussed in detail and possible therapeutic options will be explained. In this context\, the relevance of quantification to characterize disease and how to assess reliably the effects of therapy are presented. \n\n\n\n \n\n\n\n\n\n\n\nRegister nowEnrol in the live webinar now for free! Register now\n\n\n\n\n\n\n\n \n\n\n\n \n\n\n\nLearning Objectives\n\n\n\n \n\n\n\n\nTo gain a insight into the disease of amyloidosis and in particular the cardiac involvement of amyloidosis.\n\n\n\nTo learn the possibilities of quantification of planar and SPECT studies in amyloidosis\n\n\n\n\n \n\n\n\n \n\n\n\nTarget Audience\n\n\n\n \n\n\n\n\nNuclear physicians\, cardiologists\, internists and radiologists who are interested in amyloidosis and want to deepen their knowledge of cardiac amyloidosis diagnostics and quantification\n\n\n\n\n \n\n\n\n \n\n\n\nFaculty\n\n\n\n \n\n\n\n\n\nFederico CaobelliSpeaker \n\n\n\n\n\nIan ArmstrongSpeaker \n\n\n\n\n\nCarmela NappiModerator \n\n\n\n\n\nStephan NekollaModerator \n\n\n\n\n\n\n\n\n\nEvent Overview
URL:https://esmit.eanm.org/event/cardiac-amyloidosis-imaging-do-we-need-quantification/
CATEGORIES:AI & Quantification,Live Webinars
END:VEVENT
END:VCALENDAR