BEGIN:VCALENDAR
VERSION:2.0
PRODID:-//The European School of Multimodality Imaging &amp; Therapy (ESMIT) - ECPv6.15.11//NONSGML v1.0//EN
CALSCALE:GREGORIAN
METHOD:PUBLISH
X-WR-CALNAME:The European School of Multimodality Imaging &amp; Therapy (ESMIT)
X-ORIGINAL-URL:https://esmit.eanm.org
X-WR-CALDESC:Events for The European School of Multimodality Imaging &amp; Therapy (ESMIT)
REFRESH-INTERVAL;VALUE=DURATION:PT1H
X-Robots-Tag:noindex
X-PUBLISHED-TTL:PT1H
BEGIN:VTIMEZONE
TZID:Europe/Vienna
BEGIN:DAYLIGHT
TZOFFSETFROM:+0100
TZOFFSETTO:+0200
TZNAME:CEST
DTSTART:20240331T010000
END:DAYLIGHT
BEGIN:STANDARD
TZOFFSETFROM:+0200
TZOFFSETTO:+0100
TZNAME:CET
DTSTART:20241027T010000
END:STANDARD
BEGIN:DAYLIGHT
TZOFFSETFROM:+0100
TZOFFSETTO:+0200
TZNAME:CEST
DTSTART:20250330T010000
END:DAYLIGHT
BEGIN:STANDARD
TZOFFSETFROM:+0200
TZOFFSETTO:+0100
TZNAME:CET
DTSTART:20251026T010000
END:STANDARD
BEGIN:DAYLIGHT
TZOFFSETFROM:+0100
TZOFFSETTO:+0200
TZNAME:CEST
DTSTART:20260329T010000
END:DAYLIGHT
BEGIN:STANDARD
TZOFFSETFROM:+0200
TZOFFSETTO:+0100
TZNAME:CET
DTSTART:20261025T010000
END:STANDARD
END:VTIMEZONE
BEGIN:VEVENT
DTSTART;TZID=Europe/Vienna:20250519T080000
DTEND;TZID=Europe/Vienna:20250520T120000
DTSTAMP:20260422T021515
CREATED:20250318T094512Z
LAST-MODIFIED:20250516T110910Z
UID:2372-1747641600-1747742400@esmit.eanm.org
SUMMARY:AD-LEARN Mini-course for Residents: How to Start Reading Brain Scans in Neurocognitive Disorders?
DESCRIPTION:The course aims to provide the participants with basic knowledge regarding nuclear and molecular medical imaging in the neurological field. In particular\, cerebral SPET and PET will be addressed. \n\n\n\n\n\n\n\nRegister now for the VIRTUAL EXPERIENCEIn case you cannot join us in Vienna\, here is your chance to follow the course live online! Register now\n\n\n\n\n\n\n\nLearning Objectives\n\n\n\n \n\n\n\n\nClinical introduction and positioning where imaging is indicated: The aim is to understand the main indications of cerebral SPET and PET methods and the patient’s preparation before the examination.\n\n\n\nPrimer course: how to read a brain SPECT study: the aim is to understand how to acquire\, reconstruct\, format and read a perfusion and receptorial brain SPET and SPET/CT. The main clinical patterns will also be presented.\n\n\n\nPrimer course: how to read an FDG-PET brain study: the aim is to understand how to acquire\, reconstruct\, format and read an FDG  brain PET/CT. The main clinical patterns will also be presented.\n\n\n\nPeer-learning with tips and tricks\, and case presentation: the aim is to understand how to acquire\, reconstruct\, format and read a perfusion and receptorial brain SPET and SPET/CT. The main clinical patterns will also be presented.\n\n\n\n\n \n\n\n\nTarget Audience\n\n\n\n \n\n\n\nNuclear medicine specialists with little or no experience in reading SPET and PET neurological imaging. \n\n\n\n\n\n\n\nProgrammeView the Programme\n\n\n\n\n\n\n\nFaculty\n\n\n\n\n\nIgor YakushevSpeakerMunich\, Germany \n\n\n\n\n\nStelvio SestiniSpeakerPrato\, Italy \n\n\n\n\n\nRegistration Details\n\n\n\nRegistration FeeMode of PaymentCancellation Policy\n\nCourse Fee               Registration for this course is free\, but we will charge a €100 fee to book your seat\, which will be reimbursed upon attendance \n\n\n\nRegistration Fee includes: \n\n\n\n\nElectronic Course Book\, including all Slides\n\n\n\nCoffee & Lunch Breaks\n\n\n\n\nRegistration Fee does NOT include: \n\n\n\n\nTravel to the Venue\n\n\n\nAccommodation\n\n\n\n\n\n\nRegistration fees need to be paid 1 week prior to the event. In case the payment is not received by this deadline\, the registration needs to be cancelled. Payment can be settled by Credit Card. Cheques will not be accepted \n\n\n\n\n\nCancellations must be notified in writing to the EANM Office. Telephone cancellations cannot be accepted. Substitutions will be accepted if the name and e-mail address of the substitute are sent to the EANM Office 4 weeks prior to the event. After this date\, we cannot grant any refund for cancellations. Any refund will take place after the respective course. EANM will not be held liable for cancellation fees of hotels\, airlines or other means of transportation.
URL:https://esmit.eanm.org/event/esmit-ad-learn-mini-course-for-residents-how-to-start-reading-brain-scans-in-neurocognitive-disorders/
LOCATION:Future Health Lab\, Alfred-Adler-Straße 1\, Vienna\, 1100\, Austria
CATEGORIES:Clinical Nuclear Medicine,Instrumentation, Technology, Science,Onsite Course
ORGANIZER;CN="ESMIT":MAILTO:esmit@eanm.org
END:VEVENT
END:VCALENDAR