BEGIN:VCALENDAR
VERSION:2.0
PRODID:-//The European School of Multimodality Imaging &amp; Therapy (ESMIT) - ECPv6.15.11//NONSGML v1.0//EN
CALSCALE:GREGORIAN
METHOD:PUBLISH
X-ORIGINAL-URL:https://esmit.eanm.org
X-WR-CALDESC:Events for The European School of Multimodality Imaging &amp; Therapy (ESMIT)
REFRESH-INTERVAL;VALUE=DURATION:PT1H
X-Robots-Tag:noindex
X-PUBLISHED-TTL:PT1H
BEGIN:VTIMEZONE
TZID:Europe/Vienna
BEGIN:DAYLIGHT
TZOFFSETFROM:+0100
TZOFFSETTO:+0200
TZNAME:CEST
DTSTART:20240331T010000
END:DAYLIGHT
BEGIN:STANDARD
TZOFFSETFROM:+0200
TZOFFSETTO:+0100
TZNAME:CET
DTSTART:20241027T010000
END:STANDARD
BEGIN:DAYLIGHT
TZOFFSETFROM:+0100
TZOFFSETTO:+0200
TZNAME:CEST
DTSTART:20250330T010000
END:DAYLIGHT
BEGIN:STANDARD
TZOFFSETFROM:+0200
TZOFFSETTO:+0100
TZNAME:CET
DTSTART:20251026T010000
END:STANDARD
BEGIN:DAYLIGHT
TZOFFSETFROM:+0100
TZOFFSETTO:+0200
TZNAME:CEST
DTSTART:20260329T010000
END:DAYLIGHT
BEGIN:STANDARD
TZOFFSETFROM:+0200
TZOFFSETTO:+0100
TZNAME:CET
DTSTART:20261025T010000
END:STANDARD
END:VTIMEZONE
BEGIN:VEVENT
DTSTART;TZID=Europe/Vienna:20250515T090000
DTEND;TZID=Europe/Vienna:20250516T160000
DTSTAMP:20260422T021832
CREATED:20241017T083021Z
LAST-MODIFIED:20250311T115243Z
UID:1953-1747299600-1747411200@esmit.eanm.org
SUMMARY:CANCELLED: Focus on Benign Thyroid Disease: From Thyroid Nodule to Hyperthyroidism and Immune Disease
DESCRIPTION:More information coming soon \n\n\n\nRegister nowThis course is cancelled. \n\n\n\n\n\n\n\n\n\n\nLearning Objectives\n\n\n\n\n\n\n\nTarget Audience\n\n\n\n\n\n\n\n\n\nMore information coming soon\n\n\n\n\n\n\n\nMore information coming soon\n\n\n\n\n\n\n\n\n\n\nProgrammeComing soon View the Programme\n\n\n\n\n\n\n\nFaculty\n\n\n\n\n\nSpeaker \n\n\n\n\n\nSpeaker \n\n\n\n\n\nSpeaker \n\n\n\n\n\nSpeaker \n\n\n\n\n\nRegistration Details\n\n\n\nRegistration FeeMode of PaymentCancellation Policy\n\nCourse Fee               € 950.- \n\n\n\nRegistration Fee includes: \n\n\n\n\nElectronic Course Book\, including all Slides\n\n\n\nCoffee & Lunch Breaks on each Course Day\n\n\n\n\nRegistration Fee does NOT include: \n\n\n\n\nTravel to the Venue\n\n\n\nAccommodation\n\n\n\n\n\n\nRegistration fees need to be paid 1 week prior to the event. In case the payment is not received by this deadline\, the registration needs to be cancelled. Payment can be settled by Credit Card Cheques will not be accepted \n\n\n\n\n\nCancellations must be notified in writing to the EANM Office. Telephone cancellations cannot be accepted. Substitutions will be accepted if the name and e-mail address of the substitute are sent to the EANM Office 4 weeks prior to the event. In the case of cancellation 4 weeks before the course\, we will refund you the fee less a € 100\,- administration charge. After this date\, we cannot grant any refund for cancellations. Any refund will take place after the respective course. EANM will not be held liable for cancellation fees of hotels\, airlines or other means of transportation.
URL:https://esmit.eanm.org/event/focus-on-benign-thyroid-disease-from-thyroid-nodule-to-hyperthyroidism-and-immune-disease/
LOCATION:Future Health Lab\, Alfred-Adler-Straße 1\, Vienna\, 1100\, Austria
CATEGORIES:Clinical Nuclear Medicine,Onsite Course
END:VEVENT
END:VCALENDAR