BEGIN:VCALENDAR
VERSION:2.0
PRODID:-//The European School of Multimodality Imaging &amp; Therapy (ESMIT) - ECPv6.15.11//NONSGML v1.0//EN
CALSCALE:GREGORIAN
METHOD:PUBLISH
X-ORIGINAL-URL:https://esmit.eanm.org
X-WR-CALDESC:Events for The European School of Multimodality Imaging &amp; Therapy (ESMIT)
REFRESH-INTERVAL;VALUE=DURATION:PT1H
X-Robots-Tag:noindex
X-PUBLISHED-TTL:PT1H
BEGIN:VTIMEZONE
TZID:Europe/Vienna
BEGIN:DAYLIGHT
TZOFFSETFROM:+0100
TZOFFSETTO:+0200
TZNAME:CEST
DTSTART:20240331T010000
END:DAYLIGHT
BEGIN:STANDARD
TZOFFSETFROM:+0200
TZOFFSETTO:+0100
TZNAME:CET
DTSTART:20241027T010000
END:STANDARD
BEGIN:DAYLIGHT
TZOFFSETFROM:+0100
TZOFFSETTO:+0200
TZNAME:CEST
DTSTART:20250330T010000
END:DAYLIGHT
BEGIN:STANDARD
TZOFFSETFROM:+0200
TZOFFSETTO:+0100
TZNAME:CET
DTSTART:20251026T010000
END:STANDARD
BEGIN:DAYLIGHT
TZOFFSETFROM:+0100
TZOFFSETTO:+0200
TZNAME:CEST
DTSTART:20260329T010000
END:DAYLIGHT
BEGIN:STANDARD
TZOFFSETFROM:+0200
TZOFFSETTO:+0100
TZNAME:CET
DTSTART:20261025T010000
END:STANDARD
BEGIN:DAYLIGHT
TZOFFSETFROM:+0100
TZOFFSETTO:+0200
TZNAME:CEST
DTSTART:20270328T010000
END:DAYLIGHT
BEGIN:STANDARD
TZOFFSETFROM:+0200
TZOFFSETTO:+0100
TZNAME:CET
DTSTART:20271031T010000
END:STANDARD
BEGIN:DAYLIGHT
TZOFFSETFROM:+0100
TZOFFSETTO:+0200
TZNAME:CEST
DTSTART:20280326T010000
END:DAYLIGHT
BEGIN:STANDARD
TZOFFSETFROM:+0200
TZOFFSETTO:+0100
TZNAME:CET
DTSTART:20281029T010000
END:STANDARD
END:VTIMEZONE
BEGIN:VEVENT
DTSTART;TZID=Europe/Vienna:20250301T080000
DTEND;TZID=Europe/Vienna:20270330T170000
DTSTAMP:20260421T195505
CREATED:20251117T100100Z
LAST-MODIFIED:20251117T102105Z
UID:3297-1740816000-1806426000@esmit.eanm.org
SUMMARY:Fundamentals of Research in Imaging and Theranostics Part 2
DESCRIPTION:UEMS EACCME has granted the accreditation of 4.5 CME credits for this event. \n\n\n\n \n\n\n\n \n\n\n\nThis online course is part of a longer line of research methodology which is aimed at providing interested participants with information about the preclinical development and clinical translation\, as well as the design\, conductance and reporting of clinical research trials\, with a specific emphasis on radiopharmaceuticals for both diagnostic and therapeutic applications. \n\n\n\n \n\n\n\n\n\n\n\n \n\n\n\nSave yourself a seatEnter the eLearning store to register for the course. Having trouble? See the short tutorial here. Register now!\n\n\n\n \n\n\n\n\n\n\n\n \n\n\n\n \n\n\n\n \n\n\n\nLearning Objectives\n\n\n\n \n\n\n\n \n\n\n\nFor phase I/II clinical studies with radiopharmaceuticals to understand:    \n\n\n\n\nThe principles of technical realisation of the study including assessment of safety of investigational medicinal product \n\n\n\nThe statistical considerations\, including the estimation of number of subjects to be enrolled  \n\n\n\nThe regulatory requirements for performing clinical studies with radiopharmaceutical with special focus on diagnostic radiopharmaceuticals and to summarise the particularities of these studies \n\n\n\nThe ethical and medical considerations in common and vulnerable populations \n\n\n\nThe principles of preparing the clinical study protocol  \n\n\n\nThe objectives\, endpoints and outcome measures  \n\n\n\nThe principles of patient selection\, inclusion and non-inclusion criteria \n\n\n\nThe principles of establishment of the standard of truth\, the role of the comparator\, superiority/non-inferiority/equivalence(?) studies) & practical examples\n\n\n\n\n \n\n\n\n \n\n\n\nTarget Audience\n\n\n\n \n\n\n\n \n\n\n\n\nPersonnel involved in designing and/or performing phase I/II clinical research with diagnostic radiopharmaceuticals (e.g. nuclear medicine physicians\, pharmacists\, physicists\, nurses\, technologist\, administrative staff). \n\n\n\nPersonnel involved in assessment of the ethical\, medical and methodologic aspects of phase I/II research protocols with diagnostic radiopharmaceuticals. \n\n\n\nAll professionals interested in phase I/II clinical research with diagnostic radiopharmaceuticals \n\n\n\n\n \n\n\n\n \n\n\n\n \n\n\n\nFaculty\n\n\n\n \n\n\n\n \n\n\n\n\n\nChiara GranaSpeaker \n\n\n\n\n\nBart de KeizerSpeaker \n\n\n\n\n\nCaroline StokkeSpeaker \n\n\n\n\n\nJean-Noel TalbotSpeaker \n\n\n\n\n\n\n\nLuisa Roldao PereiraSpeaker \n\n\n\n\n\nJohn Andrei IagaruSpeaker \n\n\n\n\n\nSona BalogovaSpeaker
URL:https://esmit.eanm.org/event/fundamentals-of-research-part-2/
CATEGORIES:Online Course,Research Methods,Self-paced Online Course,Theranostics
ORGANIZER;CN="ESMIT":MAILTO:esmit@eanm.org
END:VEVENT
BEGIN:VEVENT
DTSTART;TZID=Europe/Vienna:20250425T000000
DTEND;TZID=Europe/Vienna:20260425T235959
DTSTAMP:20260421T195505
CREATED:20250225T141140Z
LAST-MODIFIED:20250605T144111Z
UID:2257-1745539200-1777161599@esmit.eanm.org
SUMMARY:Highlights of Focus Meeting 6: Shaping the Future of Breast Cancer Care with Molecular Imaging
DESCRIPTION:Breast cancer remains the most frequently diagnosed cancer and the leading cause of cancer-related death in women worldwide. Despite significant advancements in imaging and treatment\, clinical practice remains heterogeneous across institutions and disciplines. Molecular imaging has a pivotal role in breast cancer care\, from diagnosis to recurrence assessment. To address these discrepancies and define the future direction of imaging in breast cancer\, the European Association of Nuclear Medicine (EANM) devoted its 6th Focus Meeting to this topic\, under the following motto “Shaping the Future of Breast Cancer Care with Molecular Imaging”. \n\n\n\n \n\n\n\nThe aims of this project were: \n\n\n\n\nTo define the role of imaging in breast cancer\, particularly the utility of nuclear medicine techniques in different clinical settings (including initial systemic staging\, assessment of response to therapy\, and detection of recurrence). \n\n\n\nTo reach a multidisciplinary consensus on the current state of the art in nuclear medicine imaging in breast cancer.\n\n\n\nTo generate expert recommendations on how best to guide professionals in their clinical decisions\, beyond the existing guidelines. \n\n\n\nTo identify knowledge gaps and topics with lack of scientific evidence for potential future studies.\n\n\n\n\n \n\n\n\n \n\n\n\nThe recordings in this course are sponsored by Novartis. \n\n\n\n\n\n\n\n\n\nRegister nowEnrol in the online course now for free! Register now\n\n\n\n\n\n\n\nFaculty\n\n\n\n\n\n\nIsabel T. RubioSpeaker \n\n\n\n\n\nFrederique Penault LlorcaSpeaker \n\n\n\n\n\nThiemo van NijnattenSpeaker \n\n\n\n\n\nElizabeth DibbleSpeaker \n\n\n\n\n\nTessa BuckleSpeaker \n\n\n\n\n\nKatja Pinker DomenigSpeaker \n\n\n\n\n\n\n\n\n\nSofia Carrilho-VazSpeaker \n\n\n\n\n\nMartina Bašić-KoretićSpeaker \n\n\n\n\n\nDavid GroheuxSpeaker \n\n\n\n\n\nGary UlanerSpeaker \n\n\n\n\n\nGeraldine GebhartSpeaker \n\n\n\n\n\nWolfgang WeberSpeaker \n\n\n\n\n\n\n\n\n\nValeria RomeoSpeaker \n\n\n\n\n\nAlessandra GennariSpeaker \n\n\n\n\n\nKarolien GoffinSpeaker \n\n\n\n\n\nNadia HarbeckSpeaker \n\n\n\n\n\nPascal BaltzerSpeaker \n\n\n\n\n\nMichel van KruchtenSpeaker \n\n\n\n\n\n\n\n\n\nGary Cook Speaker \n\n\n\n\n\nPaola Anna ErbaSpeaker \n\n\n\n\n\nJoana M RibeiroSpeaker \n\n\n\n\n\nCarolien SchröderSpeaker \n\n\n\n\n\nRitse MannSpeaker \n\n\n\n\n\nPhilipp BackhausSpeaker \n\n\n\n\n\n\n\n\n\nMalene Gubbe Hildebrand Speaker \n\n\n\n\n\nFatima CardosoSpeaker \n\n\n\n\n\nAntoinette AttardSpeaker \n\n\n\n\n\nFrancesco SchnettiniSpeaker \n\n\n\n\n\nSofia RiveraSpeaker \n\n\n\n\n\n\n\n\n\n\nEvent Overview
URL:https://esmit.eanm.org/event/highlights-of-focus-meeting-6-shaping-the-future-of-breast-cancer-care-with-molecular-imaging/
LOCATION:Online
CATEGORIES:Clinical Nuclear Medicine,Self-paced Online Course
ORGANIZER;CN="ESMIT":MAILTO:esmit@eanm.org
END:VEVENT
BEGIN:VEVENT
DTSTART;TZID=Europe/Vienna:20250627T133000
DTEND;TZID=Europe/Vienna:20250627T143000
DTSTAMP:20260421T195505
CREATED:20241017T080743Z
LAST-MODIFIED:20250624T092530Z
UID:1932-1751031000-1751034600@esmit.eanm.org
SUMMARY:Extravascular Administration in Diagnostic and Therapeutic Nuclear Medicine
DESCRIPTION:In nuclear medicine\, diagnostic as well as therapeutic\, radiopharmaceuticals are administered via an intravenous injection\, in a majority of the procedures in a blood vessel at the crook of the arm or on the back of the hand. Occasionally\, the injection fails\, which results in the radiopharmaceutical ending up extravascularly. The consequence of this may be a locally high radiation dose at the injection site\, in some situations high enough to cause severe tissue effects on the patient. Thus\, it is important to recognize the problem and identify the cause in order to decrease the risk. Furthermore\, the management of the situation after such an extravasation must be dealt with thoroughly and this has been the subject of lively debate in recent years. The parameters that have an impact on the radiation dose are among other things\, the physical properties of the radionuclide\, as well as the activity and volume of the radioactive substance retained in the surroundings of the blood vessel. In the case when most of the administered activity ends up extravascular\, the quality of the diagnostic procedure or the effect of the treatment are negatively affected\, which must be addressed. \n\n\n\n \n\n\n\n \n\n\n\n\n\n\n\nRegister nowEnrol in the live webinar now for free! Register now\n\n\n\n\n\n\n\n \n\n\n\n \n\n\n\nLearning Objectives\n\n\n\n \n\n\n\n \n\n\n\nThe aim of this webinar is to highlight the risk and consequences of extravascular administration of radiopharmaceuticals as well as the management of the situation after an extravasation. \n\n\n\n \n\n\n\nTarget Audience\n\n\n\n \n\n\n\nPhysicists\, Physicians\, Technologists\, Nurses \n\n\n\n \n\n\n\n \n\n\n\nFaculty\n\n\n\n \n\n\n\n\n\nSiria MediciSpeaker \n\n\n\n\n\nJochem van der Pol Speaker \n\n\n\n\n\nSigrid Leide SvegbornModerator \n\n\n\n\n\n\n\n\n\nEvent Overview
URL:https://esmit.eanm.org/event/extravascular-administration-in-diagnostic-and-therapeutic-nuclear-medicine/
CATEGORIES:Instrumentation, Technology, Science,Live Webinars
END:VEVENT
END:VCALENDAR